BEGIN:VCALENDAR
VERSION:2.0
PRODID:-//Netzwerk Frauengesundheit - ECPv6.15.17.1//NONSGML v1.0//EN
CALSCALE:GREGORIAN
METHOD:PUBLISH
X-ORIGINAL-URL:https://www.netzwerk-frauengesundheit.com
X-WR-CALDESC:Veranstaltungen für Netzwerk Frauengesundheit
REFRESH-INTERVAL;VALUE=DURATION:PT1H
X-Robots-Tag:noindex
X-PUBLISHED-TTL:PT1H
BEGIN:VTIMEZONE
TZID:Europe/Berlin
BEGIN:DAYLIGHT
TZOFFSETFROM:+0100
TZOFFSETTO:+0200
TZNAME:CEST
DTSTART:20220327T010000
END:DAYLIGHT
BEGIN:STANDARD
TZOFFSETFROM:+0200
TZOFFSETTO:+0100
TZNAME:CET
DTSTART:20221030T010000
END:STANDARD
BEGIN:DAYLIGHT
TZOFFSETFROM:+0100
TZOFFSETTO:+0200
TZNAME:CEST
DTSTART:20230326T010000
END:DAYLIGHT
BEGIN:STANDARD
TZOFFSETFROM:+0200
TZOFFSETTO:+0100
TZNAME:CET
DTSTART:20231029T010000
END:STANDARD
BEGIN:DAYLIGHT
TZOFFSETFROM:+0100
TZOFFSETTO:+0200
TZNAME:CEST
DTSTART:20240331T010000
END:DAYLIGHT
BEGIN:STANDARD
TZOFFSETFROM:+0200
TZOFFSETTO:+0100
TZNAME:CET
DTSTART:20241027T010000
END:STANDARD
END:VTIMEZONE
BEGIN:VEVENT
DTSTART;TZID=Europe/Berlin:20230506T090000
DTEND;TZID=Europe/Berlin:20230506T183000
DTSTAMP:20260421T130851
CREATED:20230311T235336Z
LAST-MODIFIED:20230323T151627Z
UID:121858-1683363600-1683397800@www.netzwerk-frauengesundheit.com
SUMMARY:Unerfüllter Kinderwunsch-was tun?
DESCRIPTION:Margret Madejsky ist Heilpraktikerin\, Pflanzenspezialistin und Buchautorin. Auf ihr Buch  „Das alternative Kinderwunschbuch: Die besten Naturheilkonzepte für die Fruchtbarkeit“ hatte ich Sie vor einigen Jahren in diesem Artikel zum Kinderwunsch aufmerksam gemacht. Die letzten drei Jahre haben mit Covid 19 und den dazugehörigen Maßnahmen nachweislich dazu beigetragen\, dass sich die Spermiogramme der Männer weiter verschlechtert haben. Frauen leiden vermehrt unter Blutungsstörungen und Fehlgeburten. Viele Paare sind verzweifelt und möchten wissen\, was sie selber zu einer normalen Fertilität beitragen können. Deshalb hat es sich Margret zur Aufgabe gemacht\,  ihr Spezialwissen in diesem ganztägigen Seminar an Patienten\, Ärzte und Therapeuten weiterzugeben. Unterstützt wird sie dabei von ihrem Mann Olaf Rippe\, ebenfalls Heilpraktiker mit dem Schwerpunkt Männergesundheit\,  Dr. med. Anneli Hainel\, spezialisiert auf Schilddrüsenerkrankungen\, und Prof. Dr. Ingrid Gerhard\, spezialisiert auf Fortpflanzungsmedizin\, Umweltmedizin und Naturheilkunde. \nTagesprogramm \n9:15 – 9:30 Begrüßung durch die Gastgeber Margret Madejsky & Olaf Rippe \n·       9:30 – 11:00 Umweltmedizinische Aspekte bei unerfülltem Kinderwunsch\n(Prof. Dr. med. Ingrid Gerhard\, Fachärztin für Gynäkologie und Geburtshilfe) \n·       11:30 – 13:00 Die Bedeutung der Schilddrüse im Fruchtbarkeitsgeschehen\n(Dr. med. Anneli Hainel\, Ärztin und Schilddrüsenspezialistin) \n·       14:30 – 16:00 Spermadoping\, die naturheilkundliche Fruchtbarkeitssteigerung des Mannes\n(Olaf Rippe\, Heilpraktiker) \n·       16:30 – 18:00 Ursachenfindung & naturheilkundliche Therapieoptionen\n(Margret Madejsky\, Heilpraktikerin) \n·       18:00 – 18:30 Beantwortung noch offener Chatfragen \nHier kommen Sie direkt zur Anmeldung auf die Webseite der Veranstalter.
URL:https://www.netzwerk-frauengesundheit.com/event/unerfuellter-kinderwunsch-was-tun/
LOCATION:Online Seminare
CATEGORIES:Kongress für Ärzte, Therapeuten und interessierte Laien
ATTACH;FMTTYPE=image/jpeg:https://www.netzwerk-frauengesundheit.com/wp-content/uploads/2023/03/Newsletter-Banner-Kiwu-660px-e1678406481636.jpg
END:VEVENT
END:VCALENDAR