BEGIN:VCALENDAR
VERSION:2.0
PRODID:-//Netzwerk Frauengesundheit - ECPv6.15.17.1//NONSGML v1.0//EN
CALSCALE:GREGORIAN
METHOD:PUBLISH
X-WR-CALNAME:Netzwerk Frauengesundheit
X-ORIGINAL-URL:https://www.netzwerk-frauengesundheit.com
X-WR-CALDESC:Veranstaltungen für Netzwerk Frauengesundheit
REFRESH-INTERVAL;VALUE=DURATION:PT1H
X-Robots-Tag:noindex
X-PUBLISHED-TTL:PT1H
BEGIN:VTIMEZONE
TZID:Europe/Berlin
BEGIN:DAYLIGHT
TZOFFSETFROM:+0100
TZOFFSETTO:+0200
TZNAME:CEST
DTSTART:20220327T010000
END:DAYLIGHT
BEGIN:STANDARD
TZOFFSETFROM:+0200
TZOFFSETTO:+0100
TZNAME:CET
DTSTART:20221030T010000
END:STANDARD
BEGIN:DAYLIGHT
TZOFFSETFROM:+0100
TZOFFSETTO:+0200
TZNAME:CEST
DTSTART:20230326T010000
END:DAYLIGHT
BEGIN:STANDARD
TZOFFSETFROM:+0200
TZOFFSETTO:+0100
TZNAME:CET
DTSTART:20231029T010000
END:STANDARD
BEGIN:DAYLIGHT
TZOFFSETFROM:+0100
TZOFFSETTO:+0200
TZNAME:CEST
DTSTART:20240331T010000
END:DAYLIGHT
BEGIN:STANDARD
TZOFFSETFROM:+0200
TZOFFSETTO:+0100
TZNAME:CET
DTSTART:20241027T010000
END:STANDARD
END:VTIMEZONE
BEGIN:VEVENT
DTSTART;TZID=Europe/Berlin:20230329T193000
DTEND;TZID=Europe/Berlin:20230329T210000
DTSTAMP:20260421T154045
CREATED:20230309T000057Z
LAST-MODIFIED:20230321T232047Z
UID:121850-1680118200-1680123600@www.netzwerk-frauengesundheit.com
SUMMARY:Kinderwunsch
DESCRIPTION:Online-Fortbildung für Mitglieder des Dr. Pol Henry Campus. Referentin ist Prof. Dr. Ingrid Gerhard vom Netzwerk-Frauengesundheit.com \nIn den vergangenen Jahren ist das Problem des unerfüllten Kinderwunsches immer drängender geworden. Sowohl die Qualität der Eizellen als auch der Spermien hat deutlich abgenommen\, was durch moderne reproduktionsmedizinische Techniken nur teilweise aufgefangen werden kann. Verantwortlich dafür sind das gestiegene Alter bei Kinderwunsch\, mehr jedoch die Zunahme an Umweltbelastungen\, Endokrinen Disruptoren\, qualitativ schlechter Ernährung\, Bewegungsarmut und Disstress. Durch gezielte Anamneseerhebung\, Optimierung des Lebensstils\, Entgiftung\, Nahrungsergänzungen\, Nutzung der europäischen und asiatischen Naturheilmittel lassen sich bei beiden Partnern deutliche Verbesserungen der Konzeptionschancen erzielen.
URL:https://www.netzwerk-frauengesundheit.com/event/kinderwunsch/
CATEGORIES:Webinar,Webinar für Mitglieder
ATTACH;FMTTYPE=image/jpeg:https://www.netzwerk-frauengesundheit.com/wp-content/uploads/2023/03/Mutter-und-Kind-1-e1679350424539.jpg
END:VEVENT
END:VCALENDAR