BEGIN:VCALENDAR
VERSION:2.0
PRODID:-//Netzwerk Frauengesundheit - ECPv6.15.17.1//NONSGML v1.0//EN
CALSCALE:GREGORIAN
METHOD:PUBLISH
X-ORIGINAL-URL:https://www.netzwerk-frauengesundheit.com
X-WR-CALDESC:Veranstaltungen für Netzwerk Frauengesundheit
REFRESH-INTERVAL;VALUE=DURATION:PT1H
X-Robots-Tag:noindex
X-PUBLISHED-TTL:PT1H
BEGIN:VTIMEZONE
TZID:Europe/Berlin
BEGIN:DAYLIGHT
TZOFFSETFROM:+0100
TZOFFSETTO:+0200
TZNAME:CEST
DTSTART:20210328T010000
END:DAYLIGHT
BEGIN:STANDARD
TZOFFSETFROM:+0200
TZOFFSETTO:+0100
TZNAME:CET
DTSTART:20211031T010000
END:STANDARD
BEGIN:DAYLIGHT
TZOFFSETFROM:+0100
TZOFFSETTO:+0200
TZNAME:CEST
DTSTART:20220327T010000
END:DAYLIGHT
BEGIN:STANDARD
TZOFFSETFROM:+0200
TZOFFSETTO:+0100
TZNAME:CET
DTSTART:20221030T010000
END:STANDARD
BEGIN:DAYLIGHT
TZOFFSETFROM:+0100
TZOFFSETTO:+0200
TZNAME:CEST
DTSTART:20230326T010000
END:DAYLIGHT
BEGIN:STANDARD
TZOFFSETFROM:+0200
TZOFFSETTO:+0100
TZNAME:CET
DTSTART:20231029T010000
END:STANDARD
END:VTIMEZONE
BEGIN:VEVENT
DTSTART;VALUE=DATE:20220908
DTEND;VALUE=DATE:20221001
DTSTAMP:20260422T004531
CREATED:20220908T213103Z
LAST-MODIFIED:20220927T221410Z
UID:121741-1662595200-1664582399@www.netzwerk-frauengesundheit.com
SUMMARY:September 2022 kostenfreie Webinare
DESCRIPTION:27.8.-7.9.2022 Der Ganzheitliche Schwangerschaftskongress\nVeranstalter Franka Poppe\, Freiburg\nKinderwunsch\, Schwangerschaft\, Geburt und Wochenbett werden von allen Seiten betrachtet. Dafür hat die Veranstalterin Interviews geführt mit Ärzten\, Psychologen\, Coachs\, Astrologen\, Ernährungstherapeuten und vielen mehr. Die Nachfrage war riesig\, so dass uns Franka mit einem Extra-Tag überrascht hat. Vom 10.-11.9. um 10 Uhr bietet Sie noch einmal Zugang zu ALLEN Vorträgen an und den Erwerb der Kongresspakete zum reduzierten Kongresspreis.  \nUnd noch etwas besonderes bietet Franka an: eine 1:1 Begleitung und Betreuung in allen Fragen rund um Schwangerschaft\, Geburt und Wochenbett\, auch in der gesamten Still- und Kleinkindzeit über Zoom und/oder Telefon\, egal wo auf der Welt ihr wohnt. Dabei ist von einmaligen Terminen über mehrmalige in selbstgewählten Abständen bis zur Rundumbetreuung alles möglich. Franka verspricht\, ganz individuell auf eure Wünsche einzugehen. Anmeldung über franka@schwangerschaftskongress.com \n8.9.-16.9.22 Vital Life Food Summit\nVeranstalter Medumio\nÜber 30 Experten aus der Lebensmittelproduktion\, Ernährungswissenschaft und Medizin verraten Dir die Wahrheit über unser Essen. Wo kommt es her\, wie müssen wir es „behandeln“\, wie können wir es zur Gesunderhaltung nutzen und als „Medikament“ bei Krankheiten einsetzen. Du erfährst auch\, wie Du mit wenig Mühe Deine Ernährung mit selbst Angebautem verbessern kannst und wie Du Dich vor Pestiziden und giftigen Chemiekalien schützen kannst. \n9.9.-18.9.2022 Borreliose Kongress\nVeranstalter Medumio\nDu fühlst dich schlecht und kein Arzt weiß warum? Die heimtückische Borreliose kann noch Jahre nach dem Zeckenbiss\, den du vielleicht nicht mal bemerkt hast\, zu Symptomen führen im Magen-Darm-Trakt\, dem Immunsystem\, dem Nervensystem. 21 Experten\, Ärzte\, Psychologen und Betroffene teilen mit dir ihr gesamtes Wissen über Borreliose. Endlich bekommst du Ideen\, mit welchen Untersuchungen Du weiterkommst und welche Lebensstilveränderungen und Behandlungen nützlich sein können. \n9.9.-18.9.2022 Rheuma und Arthrose Kongress\nVeranstalter Medumio\nHast du bisher auch gedacht\, dass jeder alte Mensch an Arthrose leidet und dass Rheuma unheilbar ist? Hier erfährst du von den verschiedenen Experten\, wie unterschiedlich die Ursachen für Rheuma und Arthrose sind. Deshalb müssen auch die Behandlungen ganz individuell sein. Mal ist Bewegung gut\, mal schlecht. Viel kann man durch spezielle Ernährungsformen ausgleichen. Lass Dich überraschen und überzeugen\, wie viel du Dir selber helfen kannst. \n11.9.-18.9.2022 Göttlicher Humor \nVeranstalter Stefan Kleinbichler Licht\nEndlich mal ein ganz besonderer Kongress\, denn Lachen ist nicht nur gesund\, sondern auch göttlich! Es erwarten dich Experten für Lachyoga\, Traumatherapeuten\, Psychotherapeuten\, Schamanen. Es geht hier auch um DEINEN Humor & DEIN Lachen und was DU Wertvolles damit Deinem Lebensalltag\, Deiner Partnerschaft\, Deinem Beruf\, Deinem spirituellen Weg und Deinem Umfeld schenken kannst. \n13.9.-18.9.22 Medizin der Erde Online Kongress\nVeranstalter Christel Ströbel\n„Wir geben Artemisia annua eine Stimme“. Artemisia annua wird in China „Pflanze der Hoffnung“ genannt. \nIn diesem Kongress erfährst du\, warum dies nicht nur seit über 2000 Jahren in China gilt\, sondern ganz besonders in unserer heutigen Zeit\, und zwar weltweit. Artemisia annua hat die Kraft Malaria zu heilen und vorzubeugen.\nInzwischen wissen wir\, dass sie heilsam ist bei vielen Erkrankungen.\nSie ist wirksam gegen Viren\, Parasiten\, Bakterien\, Pilze und Keime. \nVor Allem…..sie stärkt dein Immunsystem!\nUnd dies ist heute wichtiger denn je. \nWie würde die Weltgesundheit aussehen\, wenn alle Menschen zu diesem Wissen Zugang hätten? \n15.9.-25.9.22 Inner Evolution Summit\nVeranstalter Mathias Berner Academy\nDie Welt befindet sich in einer Phase\, in der wir uraltes Wissen im Licht der Wissenschaft neu anwenden können. Heilung\, die den Menschen und seine Seele mit einbezieht\, wird eine Gesundheitsindustrie überflüssig machen\, die den Profit vor die Interessen der Menschen stellt. Das materialistische Weltbild führt sich gerade selbst „ad absurdum“. Das Denken in den Kategorien „gut und böse“ ist überholt und zeigt uns gerade seine Hilflosigkeit. Glück\, Fülle\, Intuition und Wohlwollen werden dieses Vakuum ersetzen. Fast 50 hochkarätige\, weltbekannte Spezialisten und inspirierende Menschen aus dem Bereichen Wissenschaft\, Geist\, Bewusstsein und Heilung werden ihr umfangreiches Wissen mit dir teilen!\nNach diesem Kongress wirst du wissen\, was du jetzt für dich und deine Mitmenschen tun kannst.\nDu wirst eine Vision davon bekommen\, warum wir als Menschheit genau jetzt hier stehen und welche Chance sich offenbart.\nDie Teilnahme an diesem Kongress wird für dich\, deine Kollegen\, Freunde und Patienten von sehr großer Hilfe sein und eine Bereicherung bieten. \n \nAktuell: Alle Interviews sind noch einmal freigeschaltet bis Mittwoch\, 28.9.22 um 18 Uhr. Online Kongresspaket  weiter erhältlich \n19.-24.9.22 Als Selbstversorger gesund & sicher durch jede Krise\nVeranstalter Alexander der Gesundcoach\nOffenbar befinden wir uns alle noch im Krisenmodus. Da ist es gut\, sich zu informieren\, wie wir Vorsorge betreiben können. Einige von Ihnen haben schon seit Jahren das Gärtnern als Hobby\, aber was tun\, wenn kein Garten da ist oder der Tag so mit Arbeit gefüllt ist\, dass zum Gärtnern keine Zeit bleibt. in diesem Kongress erfahren Sie\, wie Sie sogar auf dem Balkon Kräuter und Tomaten züchten können\, was es im Wald alles zu essen gibt\,  wie Sie mit Bienen und ihren Produkten gesund bleiben können und Vieles mehr. Auch wie Sie in der Gemeinschaft gärtnern und sich unterstützen können\, wird Sie motivieren. \nAktuell: der gesamte Kongress wird am Wochenende noch mal kostenfrei geöffnet! Das bedeutet für Dich\, dass Du am Samstag\, 01.10.2022 um ca. 19 Uhr eine Mail mit dem Zugang zu allen Interviews bekommst und dann bis Montag\, 03.10.2022 (Tag der deutschen Einheit) um Mitternacht nochmals Zeit hast\, in alle Beiträge reinzuschauen. \n22.9.-2.10.22 Arteriosklerosekongress\nVeranstalterin Pia Lödige\nHerz-Kreislauferkrankungen stehen in den industrialisierten Ländern bei den Todesursachen an erster Stelle. Eine besondere Rolle spielt hier die Arteriosklerose\, da sie\, gleichermaßen als Ursache wie Folge anderer Erkrankungen und Symptome\, eine wichtige Schnittstelle bildet. Wir können sehr viel vorsorglich tun\, damit unsere Gefäße elastisch und durchgängig bleiben. Und es gibt glücklicherweise auch viele natürliche Behandlungsmethoden\, die „Das Leben wieder in Fluss bringen“. Viele Spezialisten\, junge und alte Frauen und Männer\, berichten\, wie sie sich und ihre Patienten\, bzw. Klienten in Schwung bringen. \n24.9.-5.10.2022 Konflikttransformationskongress\nHarmony Back to Nature\, Veranstalter Kathleen und Andreas\nDie Welt ist in Aufruhr. Kann es sein\, dass die Welt nur ein Spiegel unseres eigenen Aufruhrs und unserer eigenen Konflikte ist? Die Welt befindet sich in einem Bewusstseinswandel. Sei dabei und erfahre\, wie Du mehr Liebe\, mehr Leichtigkeit\, mehr Harmonie und mehr Freude auf die Erde bringen kannst. Über 30 Experten wollen Dir dabei helfen\, Mut zu tanken\, eine starke Gemeinschaft zu spüren und mit so vielen Menschen wie möglich in Harmonie zusammen zu sein\, um aus der Krise eine Chance zu machen und eine friedvolle neue Welt zu erschaffen. \n  \n  \n  \n 
URL:https://www.netzwerk-frauengesundheit.com/event/september-2022-webinare/
LOCATION:Online Seminare
CATEGORIES:Webinar
END:VEVENT
END:VCALENDAR