BEGIN:VCALENDAR
VERSION:2.0
PRODID:-//Netzwerk Frauengesundheit - ECPv6.15.17.1//NONSGML v1.0//EN
CALSCALE:GREGORIAN
METHOD:PUBLISH
X-WR-CALNAME:Netzwerk Frauengesundheit
X-ORIGINAL-URL:https://www.netzwerk-frauengesundheit.com
X-WR-CALDESC:Veranstaltungen für Netzwerk Frauengesundheit
REFRESH-INTERVAL;VALUE=DURATION:PT1H
X-Robots-Tag:noindex
X-PUBLISHED-TTL:PT1H
BEGIN:VTIMEZONE
TZID:Europe/Berlin
BEGIN:DAYLIGHT
TZOFFSETFROM:+0100
TZOFFSETTO:+0200
TZNAME:CEST
DTSTART:20210328T010000
END:DAYLIGHT
BEGIN:STANDARD
TZOFFSETFROM:+0200
TZOFFSETTO:+0100
TZNAME:CET
DTSTART:20211031T010000
END:STANDARD
BEGIN:DAYLIGHT
TZOFFSETFROM:+0100
TZOFFSETTO:+0200
TZNAME:CEST
DTSTART:20220327T010000
END:DAYLIGHT
BEGIN:STANDARD
TZOFFSETFROM:+0200
TZOFFSETTO:+0100
TZNAME:CET
DTSTART:20221030T010000
END:STANDARD
BEGIN:DAYLIGHT
TZOFFSETFROM:+0100
TZOFFSETTO:+0200
TZNAME:CEST
DTSTART:20230326T010000
END:DAYLIGHT
BEGIN:STANDARD
TZOFFSETFROM:+0200
TZOFFSETTO:+0100
TZNAME:CET
DTSTART:20231029T010000
END:STANDARD
END:VTIMEZONE
BEGIN:VEVENT
DTSTART;TZID=Europe/Berlin:20220527T140000
DTEND;TZID=Europe/Berlin:20220528T170000
DTSTAMP:20260422T064756
CREATED:20220418T214646Z
LAST-MODIFIED:20220423T180713Z
UID:121656-1653660000-1653757200@www.netzwerk-frauengesundheit.com
SUMMARY:HPU-Seminar Teil 1 für Ärzte\, Therapeuten\, Apotheker und Hebammen
DESCRIPTION:Die Stoffwechselstörung HPU (Hämopyrrollaktamurie) wird zunehmend bekannter. Vermutlich sind deutlich mehr als 10 % aller Frauen und 1 % aller Männer betroffen. In therapeutischen Praxen liegt der Anteil noch höher\, zumal bei Patienten mit chronischen\, schwer zu therapierenden Erkrankungen. Als Auslöser zahlreicher Symptome\, Trigger für Erkrankungen und nicht zuletzt als Ursache einer Störung der körpereigenen Entgiftung ist die HPU ernst zu nehmen. Gerade auch bei Schilddrüsen- und psychischen Erkrankungen liegt häufig diese Stoffwechselstörung vor. Zum Glück sind die therapeutischen Möglichkeiten gut\, und die Behandlung erfolgt schwerpunktmäßig mit Mikronährstoffen. In unserem Herbst-Seminar „Naturheilkunde zur Frauengesundheit“ wird Ihnen Frau Dr. Baumeister-Jesch eine Einführung in die Bedeutung der HPU geben. \nIm HPU-Seminar Teil 1 wird vermittelt: \n\n\n\nSymptome der HPU\nBiochemische Grundlagen\nFunktion der körpereigenen Entgiftung\nMikronährstoffe: Funktionen und Mangel\nDiagnostik\nTherapiemöglichkeiten\n\n\n\nReferentinnen sind die Veranstalterin Frau Dr. Liutgard Baumeister-Jesch und Dr. Tina Maria Ritter\, Dipl.biol und HP. \nWeitere Informationen finden Sie hier. \nAnmeldung unter info@baumeister-jesch.de \nAuch der Termin für das Seminar HPU2 steht schon fest: 09.-10. September 2022. \nIm HPU Seminar Teil 2 werden Folgeerkrankungen\, psychische Aspekte und weitere Behandlungsmöglichkeiten sowie deren Verläufe bearbeitet.
URL:https://www.netzwerk-frauengesundheit.com/event/hpu-seminar-teil-1-fuer-aerzte-therapeuten-apotheker-und-hebammen/
LOCATION:Heidelberg\, Molkenkur
CATEGORIES:Workshop für Apotheker,Workshop für Ärzte,Workshop für Hebammen,Workshop für Therapeuten
ATTACH;FMTTYPE=image/png:https://www.netzwerk-frauengesundheit.com/wp-content/uploads/2022/04/Screenshot-2022-04-18-at-22-29-52-Stoffwechselstoerung-HPU-Wenn-Stress-krank-macht.-Das-Selbsthilfe-Programm-Ritter-Tina-Maria-Amazon.de-Buecher-e1650320538600.png
END:VEVENT
END:VCALENDAR