BEGIN:VCALENDAR
VERSION:2.0
PRODID:-//Netzwerk Frauengesundheit - ECPv6.15.17.1//NONSGML v1.0//EN
CALSCALE:GREGORIAN
METHOD:PUBLISH
X-ORIGINAL-URL:https://www.netzwerk-frauengesundheit.com
X-WR-CALDESC:Veranstaltungen für Netzwerk Frauengesundheit
REFRESH-INTERVAL;VALUE=DURATION:PT1H
X-Robots-Tag:noindex
X-PUBLISHED-TTL:PT1H
BEGIN:VTIMEZONE
TZID:Europe/Berlin
BEGIN:DAYLIGHT
TZOFFSETFROM:+0100
TZOFFSETTO:+0200
TZNAME:CEST
DTSTART:20200329T010000
END:DAYLIGHT
BEGIN:STANDARD
TZOFFSETFROM:+0200
TZOFFSETTO:+0100
TZNAME:CET
DTSTART:20201025T010000
END:STANDARD
BEGIN:DAYLIGHT
TZOFFSETFROM:+0100
TZOFFSETTO:+0200
TZNAME:CEST
DTSTART:20210328T010000
END:DAYLIGHT
BEGIN:STANDARD
TZOFFSETFROM:+0200
TZOFFSETTO:+0100
TZNAME:CET
DTSTART:20211031T010000
END:STANDARD
BEGIN:DAYLIGHT
TZOFFSETFROM:+0100
TZOFFSETTO:+0200
TZNAME:CEST
DTSTART:20220327T010000
END:DAYLIGHT
BEGIN:STANDARD
TZOFFSETFROM:+0200
TZOFFSETTO:+0100
TZNAME:CET
DTSTART:20221030T010000
END:STANDARD
END:VTIMEZONE
BEGIN:VEVENT
DTSTART;TZID=Europe/Berlin:20210601T080000
DTEND;TZID=Europe/Berlin:20210630T200000
DTSTAMP:20260423T003419
CREATED:20210608T215636Z
LAST-MODIFIED:20210622T212439Z
UID:121410-1622534400-1625083200@www.netzwerk-frauengesundheit.com
SUMMARY:Online-Seminare im Juni 2021
DESCRIPTION:Ab 11.6.21 Achtsamkeits Masterclass über 8 Wochen \n„Werde eins mit Körper und Geist“ Thich Nhat Hanh ist der weltweit wahrscheinlich berühmteste und am meisten geehrte Zen-Meister und Lehrer. 8 Sessions\, 44 Lektionen\, über 7 Stunden Teachings und Übungen \n14.6.2021\, 19 Uhr: Medizinische Enzymforschungsgesellschaft \n„Zecken- kleine Blutsauger übertragengefährliche Krankheitserreger“ Drs. med. Hellmuth Münch und Rudolf Inderst \n14.-21.6.2021\, Auditorium Netzwerk \n„Narzissmus\, Grandiosität\, Borderline und Psychosen schulenübergreifend betrachtet“ mit zahlreichen Hirnforschern und Psychologischen Schulen \n15.-20.6.2021\, World Localization day \nInternationales\, mehrsprachiges Event zur Globalisierung und neuen Zukunftsaspekten We will discuss how localization can move us beyond polarization\, and positively affect every aspect of our lives – from the inner\, spiritual and psychological dimensions to the business world and governance at the local\, national and international level.   \n17.-27.6 2021\, mit Alexander der GesundCoach \n„Selbstheilung ist machbar“ mit über 30 Interviews und Referenten \n17.-27.6. 2021\, von der Gesellschaft für Biologische Krebsabwehr \n„Lichtblicke für Krebspatienten„\, Integrative Krebsmedizin Online-Kongress Teil 3\, Referentin am 22.6.21 ist u.a. Rosina Sonnenschmidt\, die schon mehrere Artikel in diesem Webmagazin geschrieben hat\, bspw. über Corona\, sowie über Brustkrebs \n20.-27.6.2021\, von Nina Muigg \nMenschheit am Scheideweg – Fremdbestimmung oder Eigenverantwortung? \nDieser Online Kongress ist entstanden\, damit Du zum Nachdenken und Fühlen inspiriert wirst\, das derzeitige Gesellschafts-System samt Strukturen kritisch betrachten\, Dich innerlich zu Deinen wahren Standpunkten positionieren und durch die Informationen bestenfalls die für Dich und Deine Seele stimmigen Entscheidungen treffen kannst. Bekannte Referenten aus der Bewusstseinsforschung\, wie Dr. Marcel Polte\, Traugott Ickeroth\, Dieter Broers\, Jan Walter\, Raik Garve\, Martin Laker\, Dr. Leonard Coldwell\, Ricardo Leppe u.a.\, stellen ihre Sichtweise des jahrhundertealten Weltgeschehens dar und machen Vorschläge\, wie wir uns aus der Indoktrination befreien können. \n18.-27.6.21 Entgiftungskongress von Medumio \nÜber 25 führende Experten klären auf\, warum Entgiftung so wichtig ist und welche Methoden tatsächlich wirken. Wissenschaftlich\, fundiert & verständlich.  \n23.6.21 von 19-20.30 Uhr Natura Naturans \n„Corona-Impfungen natürlich begleiten“\, mit HP Olaf Rippe\, Dr. Johannes Wilkens und Dr. med Frank Meyer. \nEine wichtige und aktuelle Ergänzung zu ihrem Buch: „Corona natürlich behandeln.“
URL:https://www.netzwerk-frauengesundheit.com/event/online-seminare-im-juni-2021/
LOCATION:Online Seminare
CATEGORIES:Webinar
END:VEVENT
END:VCALENDAR