BEGIN:VCALENDAR
VERSION:2.0
PRODID:-//Netzwerk Frauengesundheit - ECPv6.15.17.1//NONSGML v1.0//EN
CALSCALE:GREGORIAN
METHOD:PUBLISH
X-WR-CALNAME:Netzwerk Frauengesundheit
X-ORIGINAL-URL:https://www.netzwerk-frauengesundheit.com
X-WR-CALDESC:Veranstaltungen für Netzwerk Frauengesundheit
REFRESH-INTERVAL;VALUE=DURATION:PT1H
X-Robots-Tag:noindex
X-PUBLISHED-TTL:PT1H
BEGIN:VTIMEZONE
TZID:Europe/Berlin
BEGIN:DAYLIGHT
TZOFFSETFROM:+0100
TZOFFSETTO:+0200
TZNAME:CEST
DTSTART:20180325T010000
END:DAYLIGHT
BEGIN:STANDARD
TZOFFSETFROM:+0200
TZOFFSETTO:+0100
TZNAME:CET
DTSTART:20181028T010000
END:STANDARD
BEGIN:DAYLIGHT
TZOFFSETFROM:+0100
TZOFFSETTO:+0200
TZNAME:CEST
DTSTART:20190331T010000
END:DAYLIGHT
BEGIN:STANDARD
TZOFFSETFROM:+0200
TZOFFSETTO:+0100
TZNAME:CET
DTSTART:20191027T010000
END:STANDARD
BEGIN:DAYLIGHT
TZOFFSETFROM:+0100
TZOFFSETTO:+0200
TZNAME:CEST
DTSTART:20200329T010000
END:DAYLIGHT
BEGIN:STANDARD
TZOFFSETFROM:+0200
TZOFFSETTO:+0100
TZNAME:CET
DTSTART:20201025T010000
END:STANDARD
END:VTIMEZONE
BEGIN:VEVENT
DTSTART;TZID=Europe/Berlin:20191011T140000
DTEND;TZID=Europe/Berlin:20191012T180000
DTSTAMP:20260424T093316
CREATED:20181209T212038Z
LAST-MODIFIED:20220914T062109Z
UID:117161-1570802400-1570903200@www.netzwerk-frauengesundheit.com
SUMMARY:Praktische naturheilkundliche Konzepte zur Frauengesundheit für Ärzte\, Apotheker und Therapeuten 2
DESCRIPTION:Jede frau ist anders\nVertiefung des Wissens aus dem ersten Workshop im Mai 2019\, außerdem werden eigene Fallbeispiele aus den Praxen besprochen. Durch Teilnahme an je einem Frühjahrs und einem Herbst-Workshop und bestandene Multiple Choice Prüfungen kann das Zertifikat „Naturheilkunde zur Frauengesundheit“ nach Prof. Dr. Ingrid Gerhard erlangt werden. Hier können Sie sich Einzelheiten zum Zertifikat herunterladen. \nSchwerpunkte\nUnerfüllter Kinderwunsch \nSchwangerschaft\nAlles dreht sich um Entzündungen und das Immunsystem\nPsyche\, Burnout\nProphylaxe und Therapie von Alterserkrankungen\nDiagnostik\nImmunologische Diagnostik Blut\nDarmdiagnostik: was ist wann sinnvoll\nProphylaxe durch Auffinden chronischer Entzündungsprozesse\nIndividuelle Therapie\nFallbesprechung in kleinen Gruppen in schöner Umgebung \nBioidentische Hormone\nErnährung und Nahrungsergänzungen\nDarm-Mikrobiom\nPhytotherapie\nAromatherapie\nHomöopathie und Schüßlersalze\nZahlreiche Fallbeispiele\nDas sagen unsere TeilnehmerInnen\nnach dem Mai-Workshop 2019\n\nEine tolle Fortbildung mit engagierten Dozenten in schöner Umgebung\nBitte weiter so mit dieser Dynamik und dem Esprit!\nEinfach alles nur TOPP!\nFrau Prof. Gerhard und Frau Bäumer sind Super-Power-Referentinnen\, gerne mehr!\nRe-Zertifizierung und Update ist hoffentlich in Planung! Ich möchte mehr!\nBeurteilung Organisation und Inhalte: Erwartungen übererfüllt!\nDie beste Fortbildung\, die ich in den letzten 20 Jahren gemacht habe. Habe gleich meine Tochter und deren Kollegin angemeldet.\nToll\, dass man einen Datei-Stick bekommt und dass Rezepturen und Tipps so großzügig geteilt werden!\n\nWeitere Informationen und Anmeldung unter  Eisbär-Apotheke <mail@eisbaerapotheke.de> . Oder laden Sie sich hier direkt das Anmeldeformular herunter!
URL:https://www.netzwerk-frauengesundheit.com/event/praktische-naturheilkundliche-konzepte-zur-frauengesundheit-fuer-aerzte-apotheker-und-therapeuten-2/
LOCATION:Eisbärakademie\, Amalienbadstr.41\, Karlsruhe\, Baden-Würtemberg\, 76227\, Deutschland
ORGANIZER;CN="Eisb%C3%A4rakademie Sabine B%C3%A4umer":MAILTO:mail@eisbaerapotheke.de
END:VEVENT
END:VCALENDAR