BEGIN:VCALENDAR
VERSION:2.0
PRODID:-//Netzwerk Frauengesundheit - ECPv6.15.17.1//NONSGML v1.0//EN
CALSCALE:GREGORIAN
METHOD:PUBLISH
X-ORIGINAL-URL:https://www.netzwerk-frauengesundheit.com
X-WR-CALDESC:Veranstaltungen für Netzwerk Frauengesundheit
REFRESH-INTERVAL;VALUE=DURATION:PT1H
X-Robots-Tag:noindex
X-PUBLISHED-TTL:PT1H
BEGIN:VTIMEZONE
TZID:Europe/Berlin
BEGIN:DAYLIGHT
TZOFFSETFROM:+0100
TZOFFSETTO:+0200
TZNAME:CEST
DTSTART:20180325T010000
END:DAYLIGHT
BEGIN:STANDARD
TZOFFSETFROM:+0200
TZOFFSETTO:+0100
TZNAME:CET
DTSTART:20181028T010000
END:STANDARD
BEGIN:DAYLIGHT
TZOFFSETFROM:+0100
TZOFFSETTO:+0200
TZNAME:CEST
DTSTART:20190331T010000
END:DAYLIGHT
BEGIN:STANDARD
TZOFFSETFROM:+0200
TZOFFSETTO:+0100
TZNAME:CET
DTSTART:20191027T010000
END:STANDARD
BEGIN:DAYLIGHT
TZOFFSETFROM:+0100
TZOFFSETTO:+0200
TZNAME:CEST
DTSTART:20200329T010000
END:DAYLIGHT
BEGIN:STANDARD
TZOFFSETFROM:+0200
TZOFFSETTO:+0100
TZNAME:CET
DTSTART:20201025T010000
END:STANDARD
END:VTIMEZONE
BEGIN:VEVENT
DTSTART;VALUE=DATE:20190510
DTEND;VALUE=DATE:20190512
DTSTAMP:20260424T175313
CREATED:20190220T171218Z
LAST-MODIFIED:20190220T172434Z
UID:118219-1557446400-1557619199@www.netzwerk-frauengesundheit.com
SUMMARY:UGB: Ernährung aktuell
DESCRIPTION:Vor der nachlassenden Fähigkeit des Gehirns fürchten sich viele. Warnungen vor der Digitalen Demenz durch die zunehmende Nutzung neuer Medien verunsichern zusätzlich. Doch das Gehirn ist zu mehr in der Lage\, als allgemein bekannt. Verblüffende Einsichten und einfache Tools\, um das Hirn auf Trab zu halten\, gibt der bekannte Gedächtnistrainer Markus Hofmann auf der UGB-Tagung vom 10.-11.05.2019. \nStille Entzündungen durch Umwelteinflüsse und wie Ernährung gegensteuern kann – dazu liefern der Umweltmediziner Dr. Kurt E. Müller und UGB-Akademieleiter Hans-Helmut Martin neueste wissenschaftliche Erkenntnisse. Chronobiologische Vorgänge beeinflussen den Stoffwechsel erheblich und stellen für Nacht- und Schichtarbeiter ein gravierendes Problem dar. Physiologische Hintergründe kommen ebenso zur Sprache wie Tipps\, dem im Alltag zu begegnen. Dem zumeist kritisch beäugten Berichten über Lichtnahrung wird der renommierte Ernährungswissenschaftler Prof. Claus Leitzmann auf den Grund gehen. \nMit Prof. Claus Leitzmann habe ich schon vor Jahren für Sie in diesem Webmagazin ein Interview gemacht: „Vegetarismus heute: vom „Hasenfutter“ zum Genuss-Menue„. Seine humorvollen\, kritischen und wissenschaftlich basierten Vorträge sind immer wieder ein Genuss! \nHier können Sie sich das Programm herunterladen und direkt anmelden.
URL:https://www.netzwerk-frauengesundheit.com/event/ugb-ernaehrung-aktuell/
LOCATION:Gießen\, Kongresshalle\, Berliner Platz 2\, Gießen\, Hessen\, 35390
ORGANIZER;CN="Verband f%C3%BCr Unabh%C3%A4ngige Gesundheitsberatung":MAILTO:info@ugb.d
END:VEVENT
BEGIN:VEVENT
DTSTART;VALUE=DATE:20190518
DTEND;VALUE=DATE:20190520
DTSTAMP:20260424T175313
CREATED:20190216T225114Z
LAST-MODIFIED:20190222T224250Z
UID:118194-1558137600-1558310399@www.netzwerk-frauengesundheit.com
SUMMARY:19. Patienten-Arzt-Kongress der GfBK
DESCRIPTION:Nutzen Sie die Gelegenheit\, auf diesem Kongress Vorträge über Ihre Erkrankung zu hören\, über den Einsatz neuer Heilmethoden informiert zu werden. Suchen Sie das Gespräch mit Betroffenen\, lassen Sie sich informieren\, inspirieren und durch die Welle von Hilfsbereitschaft\, Fröhlichkeit und Gottvertrauen mittragen! Hier können Sie sich das gesamte Programm herunterladen. \nDieses Video auf YouTube ansehen\nHier können Sie in das Interview hineinschauen\, das ich beim 18. Patienten-Arzt-Kongress der GfBK 2017 in Heidelberg für Patientinnen\, die von Brustkrebs betroffen sind\, gab. \nAm Samstagnachmittag werde ich zusammen mit Frau Dr. Weis ein Seminar leiten: \nBrustkrebserkrankungen aus biologischer Sicht\nLeitung: Dr. med. Nicole Weis\, Prof. Dr. med. Ingrid Gerhard \n\n14:30–14:45 Dr. med. Nicole Weis: Einführung in das Seminar Krebsnachsorge ganzheitlich gestalten\n14:45–15:10 Prof. Dr. med. Ingrid Gerhard: Chancen durch Naturheilkunde: Jod\, Algen und Co.\n15:10–15:30 Prof. Dr. med. Ingrid Gerhard: Kraft der Natur gegen Scheidentrockenheit\n15:30–16:15 Dr. med.Susanne Bihlmaier: Neue Grünkraft für das Immunsystem bei Brustkrebs\n16:15–16:30 Fragen an die Referentinnen\n16:30–16:45 Pause\n16:45–17:30 Dr. med. Annette Jänsch: Fasten und neue Ernährungsstrategien während Chemotherapie bei Patientinnen mit Brustkrebs\n17:30–18:15 Dr. med. Frank Meyer: Mistel & Co.: Heilpflanzen in der anthroposophischen Krebstherapie\n18:15–18:30 Fragen an die Referenten/-innen
URL:https://www.netzwerk-frauengesundheit.com/event/19-patienten-arzt-kongress-der-gfbk/
LOCATION:Heidelberg\, Print Media Academy\, Kurfürstenanlage 52-60\, Heidelberg\, Baden-Würtemberg\, 69115\, Deutschland
ORGANIZER;CN="Gesellschaft f%C3%BCr Biologische Krebsabwehr e.V.":MAILTO:anmeldung@biokrebs.de
END:VEVENT
END:VCALENDAR