BEGIN:VCALENDAR
VERSION:2.0
PRODID:-//Netzwerk Frauengesundheit - ECPv6.15.17.1//NONSGML v1.0//EN
CALSCALE:GREGORIAN
METHOD:PUBLISH
X-WR-CALNAME:Netzwerk Frauengesundheit
X-ORIGINAL-URL:https://www.netzwerk-frauengesundheit.com
X-WR-CALDESC:Veranstaltungen für Netzwerk Frauengesundheit
REFRESH-INTERVAL;VALUE=DURATION:PT1H
X-Robots-Tag:noindex
X-PUBLISHED-TTL:PT1H
BEGIN:VTIMEZONE
TZID:Europe/Berlin
BEGIN:DAYLIGHT
TZOFFSETFROM:+0100
TZOFFSETTO:+0200
TZNAME:CEST
DTSTART:20180325T010000
END:DAYLIGHT
BEGIN:STANDARD
TZOFFSETFROM:+0200
TZOFFSETTO:+0100
TZNAME:CET
DTSTART:20181028T010000
END:STANDARD
BEGIN:DAYLIGHT
TZOFFSETFROM:+0100
TZOFFSETTO:+0200
TZNAME:CEST
DTSTART:20190331T010000
END:DAYLIGHT
BEGIN:STANDARD
TZOFFSETFROM:+0200
TZOFFSETTO:+0100
TZNAME:CET
DTSTART:20191027T010000
END:STANDARD
BEGIN:DAYLIGHT
TZOFFSETFROM:+0100
TZOFFSETTO:+0200
TZNAME:CEST
DTSTART:20200329T010000
END:DAYLIGHT
BEGIN:STANDARD
TZOFFSETFROM:+0200
TZOFFSETTO:+0100
TZNAME:CET
DTSTART:20201025T010000
END:STANDARD
END:VTIMEZONE
BEGIN:VEVENT
DTSTART;VALUE=DATE:20190406
DTEND;VALUE=DATE:20190408
DTSTAMP:20260424T192217
CREATED:20181229T223402Z
LAST-MODIFIED:20181229T230846Z
UID:118116-1554508800-1554681599@www.netzwerk-frauengesundheit.com
SUMMARY:Kongress für menschliche Medizin – Update 2019 – „Tatort Schwangerschaft“
DESCRIPTION:Tatort Schwangerschaft – Wie in der Kindheit die Krankheiten des Alters entstehen\nNach den heißen Themen der vergangenen Kongresse (Demenz\, Krebs und Autoimmunerkrankungen)\, die stetig wachsende Teilnehmerzahlen ausgelöst haben\, ist man geneigt anzunehmen\, dass kaum noch eine Steigerung möglich ist. Doch mit dem Thema „Tatort Schwangerschaft – wie in der Kindheit die Krankheiten des Alters entstehen“ ist uns dies gelungen! \nEigentlich ist der Begriff „Schwangerschaft“ positiv besetzt: ein neuer Erdenbürger ist unterwegs\, was Anlass zur Freude in den betreffenden Familien ist. Diese Freude ist allerdings nicht mehr ungetrübt\, weil seit einigen Jahren immer deutlicher wird\, dass die Basis zahlreicher Erkrankungen des späteren Lebens bereits in der frühen Kindheit\, ja sogar während der Schwangerschaft gelegt wird. \nWie kann das sein? Nun\, eine Schwangerschaft ist zwar keine Krankheit\, aber sie benötigt für ihr Gelingen einen gesunden Körper der Mutter (= Umwelt des Foeten). Ist die Mutter bereits krank oder weist klassische Risikofaktoren für spätere Krankheiten auf (Übergewicht\, Rauchen\, schlechte Ernährung\, Vitamin D Mangel etc.)\, ist ihr Körper nicht mehr in der Lage\, seine evolutionäre Aufgabe korrekt zu erledigen. Das Ergebnis sind Kinder mit einer hohen Disposition für kardiovaskuläre Erkrankungen\, Diabetes\, Autoimmunerkrankungen u.a.m. Die gleichen Zusammenhänge gelten für die ersten Jahre der Kindheit\, in der sich die soziale Kompetenz des Kindes in der Umwelt der Familie entwickelt (sozialer Uterus). Der internationale Fachausdruck für dieses Phänomen lautet „DOHaD“ (Developmental Origin of Health and Disease). \nHöchst qualifizierte Experten (darunter fünf aus den USA) sind eingeladen\, auf dem Kongress 2019 über eine Umweltkatastrophe zu berichten\, die bereits eingetreten ist. Der Krankheits-Tsunami\, der uns seit einigen Jahrzehnten überrollt\, hat hier nämlich in dem durch die Zivilisation gestörten Zusammenspiel von Mensch und Umwelt (Stichwort Epigenetik) seine Ursache. Wir brauchen also in der Tat nicht mehr über die Möglichkeiten einer Umweltkatastrophe zu spekulieren: sie ist bereits da! \nDas Ausmaß dieses Unheils zu begrenzen ist keine Aufgabe der Medizin (die Anamnese der letzten Jahrzehnte zeigt zu deutlich\, dass die Medizin dies auch nicht zu leisten vermag)\, sondern eine Aufgabe der gesamten Gesellschaft. Dazu müssen wir eine neue Gesundheits-Kultur entwickeln\, die die negativen Folgen der Zivilisation für die Menschheit begreift und gezielt kompensiert. Der Kongress für menschliche Medizin 2019 wird seinen Teil dazu beitragen\, dieses Ziel zu erreichen. \nHier die Übersicht der Vortragsthemen und Referenten beim Kongress:\nVortragsprogramm am Samstag\, 06.04.2019\n9:30 Uhr – 13:00 Uhr | Block I: \n\nSpitzen-Gesundheit von der Wiege bis zur Bahre: NDE und DOHaD | J. Spitz\, Schlangenbad\nNatürlich schwanger | S. Barz\, Bremen\nVerdient der „Kaiserschnitt“ seinen Namen? | F. Louwen\, Frankfurt\nNeonatale Neurophysiologie: Der Weg von der Schwangerschaft zur Demenz | G. Hüther\, Göttingen\nVitamin D: Fehldiagnose Kindesmisshandlung bei angeborener Rachitis | R. von Helden\, Lennestadt\n\n10:45 Uhr / 13:00 Uhr / 16:00 Uhr | Pausen und Besuch der Industrieausstellung \n14:15 Uhr – 18:00 Uhr | Block II: \n\nVitamin D: Tuning the immune system | M. Holick\, Boston/USA\nVitamin D: Effect of Vitamin D supplementation during pregnancy | B. Hollis\, Charleston/USA\nVitamin D: Epidemiology of maternal Vitamin D-deficiency | B. Grant\, San Francisco/USA\nVitamin D: Save our children now! The success story of Grassroothealth | C. Baggerly\, Encinitas/USA\nOur mikrobiome at the beginning of life | A. Fasano\, Boston/USA\n\n[Die englischsprachigen Vorträge werden als Video mit deutschem Untertext sowie anschließender online Diskussion mit dem jeweiligen Referenten angeboten.] \nVortragsprogramm am Sonntag\, 07.04.2019\n9:15 Uhr – 12:30 Uhr | Block III: \n\nMikronährstoffe in der Schwangerschaft | U. Gröber\,Essen\nOmega 3 FS in Schwangerschaft und Kindheit | C. von Schacky\, Martinsried\nEpigenetik in der Schwangerschaft | N. N.\nBewegung als Motor der kindlichen Potentialentfaltung | P. Zimmer\, Köln\nZur Bedeutung von Singen und Musizieren für die Entwicklung des Kindes | E. Wünnenberg\, Scheidegg\n\n10:15 Uhr / 12:30 Uhr / 15:00 Uhr | Pausen und Besuch der Industrieausstellung \n14:00 Uhr – 17:00 Uhr | Block IV: \n\nRisikofaktor Umwelt im 21. Jahrhundert | K.E. Müller\, Kempten\nZur Bedeutung des sozialen Uterus für die Entwicklung des Kindes | N. N.\nRisikofaktoren Adipositas\, Rauchen\, Alkohol | J. Stubert\, Rostock\nDiabetes Typ I und II in der Schwangerschaft | N.N.\nWir brauchen keine neue Medizin\, sondern eine neue Gesundheitskultur | J. Spitz\, Schlangenbad\nVerabschiedung U. Gröber\, J. Spitz\n\nHier finden Sie alle Informationen zum Kongress und zur Anmeldung >>\nUnd hier können Sie sich direkt zur Teilnahme am Kongress anmelden (bis zum 31.01.2019 zum Frühbuchertarif!)
URL:https://www.netzwerk-frauengesundheit.com/event/kongress-fuer-menschliche-medizin-update-2019-tatort-schwangerschaft/
LOCATION:Campus Riedberg\, Goethe Universität Frankfurt/Main Biozentrum\, Hörsaal B1\, Max-von-Laue-Str. 9\, Frankfurt am Main\, 60438\, Deutschland
CATEGORIES:Kongress für Ärzte, Therapeuten und interessierte Laien
END:VEVENT
END:VCALENDAR